BEGIN:VCALENDAR
VERSION:2.0
PRODID:-//Eat South Bound - ECPv6.15.14//NONSGML v1.0//EN
CALSCALE:GREGORIAN
METHOD:PUBLISH
X-WR-CALNAME:Eat South Bound
X-ORIGINAL-URL:https://eatsouthbound.com
X-WR-CALDESC:Events for Eat South Bound
REFRESH-INTERVAL;VALUE=DURATION:PT1H
X-Robots-Tag:noindex
X-PUBLISHED-TTL:PT1H
BEGIN:VTIMEZONE
TZID:America/New_York
BEGIN:DAYLIGHT
TZOFFSETFROM:-0500
TZOFFSETTO:-0400
TZNAME:EDT
DTSTART:20190310T070000
END:DAYLIGHT
BEGIN:STANDARD
TZOFFSETFROM:-0400
TZOFFSETTO:-0500
TZNAME:EST
DTSTART:20191103T060000
END:STANDARD
BEGIN:DAYLIGHT
TZOFFSETFROM:-0500
TZOFFSETTO:-0400
TZNAME:EDT
DTSTART:20200308T070000
END:DAYLIGHT
BEGIN:STANDARD
TZOFFSETFROM:-0400
TZOFFSETTO:-0500
TZNAME:EST
DTSTART:20201101T060000
END:STANDARD
BEGIN:DAYLIGHT
TZOFFSETFROM:-0500
TZOFFSETTO:-0400
TZNAME:EDT
DTSTART:20210314T070000
END:DAYLIGHT
BEGIN:STANDARD
TZOFFSETFROM:-0400
TZOFFSETTO:-0500
TZNAME:EST
DTSTART:20211107T060000
END:STANDARD
BEGIN:DAYLIGHT
TZOFFSETFROM:-0500
TZOFFSETTO:-0400
TZNAME:EDT
DTSTART:20220313T070000
END:DAYLIGHT
BEGIN:STANDARD
TZOFFSETFROM:-0400
TZOFFSETTO:-0500
TZNAME:EST
DTSTART:20221106T060000
END:STANDARD
BEGIN:DAYLIGHT
TZOFFSETFROM:-0500
TZOFFSETTO:-0400
TZNAME:EDT
DTSTART:20230312T070000
END:DAYLIGHT
BEGIN:STANDARD
TZOFFSETFROM:-0400
TZOFFSETTO:-0500
TZNAME:EST
DTSTART:20231105T060000
END:STANDARD
END:VTIMEZONE
BEGIN:VEVENT
DTSTART;TZID=America/New_York:20220102T110000
DTEND;TZID=America/New_York:20220102T150000
DTSTAMP:20260424T013311
CREATED:20211231T170242Z
LAST-MODIFIED:20211231T170242Z
UID:2115-1641121200-1641135600@eatsouthbound.com
SUMMARY:SunDaze Brunch @ SouthBound
DESCRIPTION:Every Saturday and Sunday….we BRUNCH \n11AM – 3PM \n$25 Mimosa Pitchers!
URL:https://eatsouthbound.com/event/sundaze-brunch-southbound/
LOCATION:SouthBound – Southend\, Charlotte\, NC\, 2433 South Blvd\, Charlotte\, NC\, 28203
CATEGORIES:SouthBound,The Studio
ATTACH;FMTTYPE=image/jpeg:https://eatsouthbound.com/wp-content/uploads/2021/11/255521831_5170705969613086_3541541677805425816_n.jpg
END:VEVENT
BEGIN:VEVENT
DTSTART;TZID=America/New_York:20220101T110000
DTEND;TZID=America/New_York:20220101T150000
DTSTAMP:20260424T013311
CREATED:20211231T170018Z
LAST-MODIFIED:20211231T170018Z
UID:2028-1641034800-1641049200@eatsouthbound.com
SUMMARY:Saturday Brunch at SouthBound
DESCRIPTION:On weekends\, we brunch \nEvery Saturday AND Sunday\, we pull out our SoCal inspired Brunch Menu and guarantee the best start to your weekend
URL:https://eatsouthbound.com/event/saturday-brunch-at-southbound-10/
LOCATION:SouthBound – Southend\, Charlotte\, NC\, 2433 South Blvd\, Charlotte\, NC\, 28203
CATEGORIES:SouthBound,The Studio
ATTACH;FMTTYPE=image/jpeg:https://eatsouthbound.com/wp-content/uploads/2021/11/245610096_5081718508511833_2511749825289316176_n-1.jpg
END:VEVENT
BEGIN:VEVENT
DTSTART;TZID=America/New_York:20211231T200000
DTEND;TZID=America/New_York:20220101T010000
DTSTAMP:20260424T013311
CREATED:20211208T193443Z
LAST-MODIFIED:20211227T180047Z
UID:2051-1640980800-1640998800@eatsouthbound.com
SUMMARY:MASQUERADE NYE @ South 48
DESCRIPTION:Join us for our MASQUARADE NYE at South 48!! The Music Yard\, SouthBound & Studio are joining up to host multiple stages & VIP areas. We’ve got bands\, DJs\, performances\, heated outdoor areas\, showing the College Football Playoffs & more. There will be a free champagne toast & hors d’oeuvres for VIP buyers. Get ready for the hottest NYE party in town! Come dressed to impress!\n\nTo ensure the safety of our staff and patrons we want to err on the side of caution so we will be requiring a proof of vaccination or negative Covid test within 72 hours to all attendees & staff. \n\nDetails:\n– 21+\n– Doors: 8pm\n– Walk-up & table side food & beverage service\n– Uber/Lyft/train to venue\n– Drink responsibly\n– No large bags\n– No Dogs
URL:https://eatsouthbound.com/event/masquerade-nye-south-48/
LOCATION:The Music Yard @ SouthBound\, 2433 South Blvd\, Charlotte\, 28203\, United States
CATEGORIES:SouthBound,The Music Yard,The Studio
ATTACH;FMTTYPE=image/jpeg:https://eatsouthbound.com/wp-content/uploads/2021/12/265717830_1790130971180518_3762874549891364089_n.jpg
END:VEVENT
BEGIN:VEVENT
DTSTART;TZID=America/New_York:20211003T120000
DTEND;TZID=America/New_York:20211003T210000
DTSTAMP:20260424T013311
CREATED:20210928T162505Z
LAST-MODIFIED:20210928T162505Z
UID:1692-1633262400-1633294800@eatsouthbound.com
SUMMARY:GameDay @ The Yard
DESCRIPTION:Join us for The Music Yard Gameday Experience this Sunday\, October 3rd at NOON!\nCharlottes finest DJs Kyle Genesis & DOMii on the 1’s & 2’s all evening.\nDetails:\n– 21+\n– Doors: 6pm\n– Walk-up & table side food & beverage service\n– Uber/Lyft/train to venue\n– Drink responsibly\n– No large bags\n– Enter through the South Blvd entrance
URL:https://eatsouthbound.com/event/gameday-the-yard/
LOCATION:The Music Yard @ SouthBound\, 2433 South Blvd\, Charlotte\, 28203\, United States
CATEGORIES:SouthBound,The Music Yard,The Studio
ATTACH;FMTTYPE=image/jpeg:https://eatsouthbound.com/wp-content/uploads/2021/09/music_football_10_3.jpg
END:VEVENT
BEGIN:VEVENT
DTSTART;TZID=America/New_York:20211002T190000
DTEND;TZID=America/New_York:20211002T220000
DTSTAMP:20260424T013311
CREATED:20210927T135245Z
LAST-MODIFIED:20210927T145322Z
UID:1675-1633201200-1633212000@eatsouthbound.com
SUMMARY:Rock Out Against Hunger @ The Music Yard
DESCRIPTION:100% Proceeds from ticket sales going to Second Harvest Food Bank of Metrolina – Together We CAN End Hunger\n\n\n\n\n\nGet your tickets here: https://www.eventbrite.com/e/rock-out-against-hunger-tickets-173760651787\n\n\n\n\n\n\n\n\n\n  \n\n\n\n\nAbout this event\n\n\nMade Possible by Tom & Val McKernan\, SouthBound\, The Music Yard\, The Studio & Killin’ Time. \nEnjoy a great evening of great food from SouthBound\, LIVE music by Killin’ Time – playing your favorite rock cover music from the 70’s\, 80’s and 90’s! Bring your friends and let’s ROCK OUT AGAINST HUNGER! \nIf you wish to donate more than your ticket price\, you may bring a check made out to Second Harvest or there will be a TEXT-TO-GIVE option night of!
URL:https://eatsouthbound.com/event/rock-out-against-hunger/
LOCATION:The Music Yard @ SouthBound\, 2433 South Blvd\, Charlotte\, 28203\, United States
CATEGORIES:SouthBound,The Music Yard,The Studio
ATTACH;FMTTYPE=image/jpeg:https://eatsouthbound.com/wp-content/uploads/2021/09/https___cdn.evbuc_.com_images_151428139_480136378509_1_original.jpg
END:VEVENT
BEGIN:VEVENT
DTSTART;TZID=America/New_York:20211001T180000
DTEND;TZID=America/New_York:20211001T230000
DTSTAMP:20260424T013311
CREATED:20210927T145306Z
LAST-MODIFIED:20210927T145306Z
UID:1684-1633111200-1633129200@eatsouthbound.com
SUMMARY:PRIDE Fest @ The Music Yard
DESCRIPTION:Come out for PRIDE at The Yard to celebrate a night of diversity by bringing together our local LGBTQ community featuring DJ sets\, Drag shows & performances!\nDJs: Carter Cruise\, DOMii\, SeeBirdGo & Smatty\nInfo:\n– 21+\n– Doors: 6pm\n– Walk-up & table side food & beverage service\n– Uber/Lyft/train to venue\n– Drink responsibly\n– No large bags\n– No Dogs\n– Enter through the South Blvd entrance
URL:https://eatsouthbound.com/event/pride-fest-the-music-yard/
LOCATION:The Music Yard @ SouthBound\, 2433 South Blvd\, Charlotte\, 28203\, United States
CATEGORIES:SouthBound,The Music Yard,The Studio
ATTACH;FMTTYPE=image/jpeg:https://eatsouthbound.com/wp-content/uploads/2021/09/242549305_1735550919971857_3047939165233631429_n.jpg
END:VEVENT
BEGIN:VEVENT
DTSTART;TZID=America/New_York:20210930T173000
DTEND;TZID=America/New_York:20210930T223000
DTSTAMP:20260424T013311
CREATED:20210927T143136Z
LAST-MODIFIED:20210927T145334Z
UID:1679-1633023000-1633041000@eatsouthbound.com
SUMMARY:Nothing Major Market @ The Music Yard
DESCRIPTION:Shop. Drink. Grill. Vibe. Local. \nJoin The Music Yard\, SouthBound & The Studio as we welcome local small businesses to set up a market! Live Music will be on SouthBound’s patio until 9pm and then DJ Pico will take over out in the yard!
URL:https://eatsouthbound.com/event/nothing-major-market/
LOCATION:The Music Yard @ SouthBound\, 2433 South Blvd\, Charlotte\, 28203\, United States
CATEGORIES:SouthBound,The Music Yard,The Studio
ATTACH;FMTTYPE=image/jpeg:https://eatsouthbound.com/wp-content/uploads/2021/09/music_market_1080_9-30.jpeg
END:VEVENT
BEGIN:VEVENT
DTSTART;TZID=America/New_York:20210904T150000
DTEND;TZID=America/New_York:20210904T230000
DTSTAMP:20260424T013311
CREATED:20210901T175511Z
LAST-MODIFIED:20210901T175511Z
UID:1625-1630767600-1630796400@eatsouthbound.com
SUMMARY:UGA vs. Clemson Watch Party at The Yard!
DESCRIPTION:College football is here and Charlotte is host to the Georgia & Clemson game happening September 4th!\nWe’re camping out at The Music Yard all day with drink specials\, smoked Carne Asada tacos fresh off the grill\, Beer Buckets and a full bar from The Studio.\nDoors open at 3pm and we’ll have the Alabama vs. Miami game on our giant screens at 3:30pm until the Bulldogs & Tigers kick off at 7:30pm. DJ Method will be spinning during commercials from 3pm-11pm.\nGet your General Admission\, VIP Studio & Table tickets here https://www.eventbrite.com/…/uga-vs-clemson-watch-party…
URL:https://eatsouthbound.com/event/uga-vs-clemson-watch-party-at-the-yard-3/
LOCATION:The Studio @ SouthBound\, 2433 South Blvd\, Charlotte\, NC\, 28203\, United States
CATEGORIES:The Studio
ATTACH;FMTTYPE=image/png:https://eatsouthbound.com/wp-content/uploads/2021/08/TMY-Web.png
END:VEVENT
BEGIN:VEVENT
DTSTART;TZID=America/New_York:20210904T090000
DTEND;TZID=America/New_York:20210904T120000
DTSTAMP:20260424T013311
CREATED:20210901T175427Z
LAST-MODIFIED:20210901T175427Z
UID:1623-1630746000-1630756800@eatsouthbound.com
SUMMARY:FOX BIG NOON KICKOFF *FREE BRUNCH*
DESCRIPTION:FOX Big Noon Kickoff with Clay Travis at The Music Yard at SouthBound\nFREE TICKET required for FREE BRUNCH & MIMOSA – Only 100 available so hurry and reserve your spot!! *Must arrive by 9:30AM to receive free brunch* FOX Sports will go live from The Yard at 10AM!*\nFOX Sports & The Big Noon Show will be out here with Clay Travis getting everyone ready for the big UGA vs. Clemson game! Big Screens and DJ on site!\nCome Out\, Rep your favorite team & Get Hyped for Football being back! DJ starts at 9:30AM to get us going!
URL:https://eatsouthbound.com/event/fox-big-noon-kickoff-free-brunch-3/
LOCATION:The Studio @ SouthBound\, 2433 South Blvd\, Charlotte\, NC\, 28203\, United States
CATEGORIES:The Studio
ATTACH;FMTTYPE=image/jpeg:https://eatsouthbound.com/wp-content/uploads/2021/08/BNKOutkick_Charlotte_Banner_970x250-e1630425833514.jpg
END:VEVENT
BEGIN:VEVENT
DTSTART;TZID=America/New_York:20210903T190000
DTEND;TZID=America/New_York:20210903T220000
DTSTAMP:20260424T013311
CREATED:20210901T175339Z
LAST-MODIFIED:20210901T175339Z
UID:1620-1630695600-1630706400@eatsouthbound.com
SUMMARY:Live Music Friday ft. DJ Trife!
DESCRIPTION:It’s Friday night! Let’s get it\nDJ Trife will be here at 7pm to fill the house with your favorite sounds – grab a friend and a wristband to start the weekend right 
URL:https://eatsouthbound.com/event/live-music-friday-ft-dj-trife/
LOCATION:The Studio @ SouthBound\, 2433 South Blvd\, Charlotte\, NC\, 28203\, United States
CATEGORIES:The Studio
ATTACH;FMTTYPE=image/jpeg:https://eatsouthbound.com/wp-content/uploads/2021/09/240575159_1006830726812714_8946189533177150713_n.jpg
END:VEVENT
BEGIN:VEVENT
DTSTART;TZID=America/New_York:20210902T190000
DTEND;TZID=America/New_York:20210902T220000
DTSTAMP:20260424T013311
CREATED:20210901T175248Z
LAST-MODIFIED:20210901T175248Z
UID:1594-1630609200-1630620000@eatsouthbound.com
SUMMARY:Live Music Thursdays ft. DJ Method!
DESCRIPTION:Hang out and get ready for the weekend at The Studio! Every Thursday from 7-10pm\, we will be spinnin’ your favorite tunes \nStay a while and treat yourself to a self-pour beer or wine and food from SouthBound!
URL:https://eatsouthbound.com/event/live-music-thursdays-ft-dj-method-7/
LOCATION:The Studio @ SouthBound\, 2433 South Blvd\, Charlotte\, NC\, 28203\, United States
CATEGORIES:The Studio
ATTACH;FMTTYPE=image/jpeg:https://eatsouthbound.com/wp-content/uploads/2021/09/241157691_1006831606812626_8717493509279595972_n.jpg
END:VEVENT
BEGIN:VEVENT
DTSTART;TZID=America/New_York:20210828T180000
DTEND;TZID=America/New_York:20210828T230000
DTSTAMP:20260424T013311
CREATED:20210811T180051Z
LAST-MODIFIED:20210811T180051Z
UID:1442-1630173600-1630191600@eatsouthbound.com
SUMMARY:Fill Your Soul feat. Late Night Radio & Artifakts
DESCRIPTION:Whos ready to Fill Your Soul with those funky tunes as Late Night Radio hits The Music Yard for a soulful night w/ special guest Artifakts. Come get down with the electronic grooves on Aug. 28th!\nLate Night Radio\nAlex Medellin aka Late Night Radio is a Denver-based musician\, producer\, and pillar of the Colorado electronic music scene. His unique hybrid electronic sound is inspired by classic soul and third coast hip-hop\, paying tribute to the sounds of the past while seamlessly ushering in the sounds of the future.\nEmotionally charged and explosive live sets transformed Late Night Radio into a Denver sensation.Through nationwide tours with GRiZ\, The Floozies\, Gramatik\, Lettuce\, and BoomBox. Late Night Radio expedited his position at the forefront of electro-groove. His performances at Red Rocks Amphitheatre\, Electric Forest\, Shambhala\, Hulaween\, and Camp Bisco have intoxicated attendees from all walks of life.\nPraised by tastemakers like Live For Live Music\, EDM.com\, EARMILK\, and many more\, it’s no secret that the visionary producer is crafting something unique. In the end\, the moniker Late Night Radio reflects the vibrant versatility at the heart of the sound. Like a locomotive\, the quixotic producer shows no signs of slowing down.\nArtifakts\nArtifakts is the musical undertaking of Wisconsin-born Garret Meyer that blurs the line between electronic\, hip-hop\, and soul. An ever-evolving artist\, Artifakts established his project in 2011 and has been able to break out of the confines of modern electronic music while also contributing to the project both sonically and visually. Landing noteworthy shows across the country with a wide array of both live and DJ sets\, this producer has shown his belonging among the ranks of both seasoned beat makers and bands alike.\nSince 2012 Artifakts has worked with a plethora of renowned musicians\, labels and producers both musically and in design to provide a unique catalog of music and art very much rooted in the indie-electronic community. While toting a discography frequently favorited by study/relax playlists and the more introspective listener\, an Artifakts performance is anything but stringent in style\, often showcasing genres from current EDM to classic funk grooves and anything in between.\nSupport: TheBusiness. & Wobb d’Fnk\nDetails\n– 5pm – 11pm\n– Walk-up & table side food & beverage service\n– Uber/Lyft/train to venue\n– Drink responsibly\n– No large bags\n– No Dogs\n– Enter through the South Blvd entrance\nTickets: https://latenightmusicyard.eventbrite.com
URL:https://eatsouthbound.com/event/fill-your-soul-feat-late-night-radio-artifakts/
LOCATION:The Music Yard @ SouthBound\, 2433 South Blvd\, Charlotte\, 28203\, United States
CATEGORIES:The Music Yard,The Studio
ATTACH;FMTTYPE=image/jpeg:https://eatsouthbound.com/wp-content/uploads/2021/08/230469397_1699808930212723_4427050046201629651_n.jpg
END:VEVENT
BEGIN:VEVENT
DTSTART;TZID=America/New_York:20210826T190000
DTEND;TZID=America/New_York:20210826T220000
DTSTAMP:20260424T013311
CREATED:20210802T170109Z
LAST-MODIFIED:20210802T170109Z
UID:1402-1630004400-1630015200@eatsouthbound.com
SUMMARY:Live Music Thursdays ft. DJ Method!
DESCRIPTION:Hang out and get ready for the weekend at The Studio! Every Thursday from 7-10pm\, we will be spinnin’ your favorite tunes \nStay a while and treat yourself to a self-pour beer or wine and food from SouthBound!
URL:https://eatsouthbound.com/event/live-music-thursdays-ft-dj-method-6/
LOCATION:The Studio @ SouthBound\, 2433 South Blvd\, Charlotte\, NC\, 28203\, United States
CATEGORIES:The Studio
END:VEVENT
BEGIN:VEVENT
DTSTART;TZID=America/New_York:20210819T190000
DTEND;TZID=America/New_York:20210819T220000
DTSTAMP:20260424T013311
CREATED:20210802T170016Z
LAST-MODIFIED:20210802T170016Z
UID:1400-1629399600-1629410400@eatsouthbound.com
SUMMARY:Live Music Thursdays ft. DJ Method!
DESCRIPTION:Hang out and get ready for the weekend at The Studio! Every Thursday from 7-10pm\, we will be spinnin’ your favorite tunes \nStay a while and treat yourself to a self-pour beer or wine and food from SouthBound!
URL:https://eatsouthbound.com/event/live-music-thursdays-ft-dj-method-5/
LOCATION:The Studio @ SouthBound\, 2433 South Blvd\, Charlotte\, NC\, 28203\, United States
CATEGORIES:The Studio
ATTACH;FMTTYPE=image/jpeg:https://eatsouthbound.com/wp-content/uploads/2021/06/195904453_1435261236839285_4504098534441350310_n.jpg
END:VEVENT
BEGIN:VEVENT
DTSTART;TZID=America/New_York:20210812T070000
DTEND;TZID=America/New_York:20210812T220000
DTSTAMP:20260424T013311
CREATED:20210802T165924Z
LAST-MODIFIED:20210802T165924Z
UID:1398-1628751600-1628805600@eatsouthbound.com
SUMMARY:Live Music Thursdays ft. DJ Method!
DESCRIPTION:Hang out and get ready for the weekend at The Studio! Every Thursday from 7-10pm\, we will be spinnin’ your favorite tunes \nStay a while and treat yourself to a self-pour beer or wine and food from SouthBound!
URL:https://eatsouthbound.com/event/live-music-thursdays-ft-dj-method-4/
LOCATION:The Studio @ SouthBound\, 2433 South Blvd\, Charlotte\, NC\, 28203\, United States
CATEGORIES:The Studio
END:VEVENT
BEGIN:VEVENT
DTSTART;TZID=America/New_York:20210805T190000
DTEND;TZID=America/New_York:20210805T220000
DTSTAMP:20260424T013311
CREATED:20210802T165820Z
LAST-MODIFIED:20210802T165820Z
UID:1396-1628190000-1628200800@eatsouthbound.com
SUMMARY:Live Music Thursdays ft. DJ Method!
DESCRIPTION:Hang out and get ready for the weekend at The Studio! Every Thursday from 7-10pm\, we will be spinnin’ your favorite tunes \nStay a while and treat yourself to a self-pour beer or wine and food from SouthBound!
URL:https://eatsouthbound.com/event/live-music-thursdays-ft-dj-method-3/
LOCATION:The Studio @ SouthBound\, 2433 South Blvd\, Charlotte\, NC\, 28203\, United States
CATEGORIES:The Studio
ATTACH;FMTTYPE=image/jpeg:https://eatsouthbound.com/wp-content/uploads/2021/06/195904453_1435261236839285_4504098534441350310_n.jpg
END:VEVENT
BEGIN:VEVENT
DTSTART;TZID=America/New_York:20210729T190000
DTEND;TZID=America/New_York:20210729T220000
DTSTAMP:20260424T013311
CREATED:20210706T160609Z
LAST-MODIFIED:20210706T160609Z
UID:1322-1627585200-1627596000@eatsouthbound.com
SUMMARY:Live Music Thursdays ft. DJ Ahuf!
DESCRIPTION:Hang out and get ready for the weekend at The Studio! Every Thursday from 7-10pm\, we will be spinnin’ your favorite tunes \nStay a while and treat yourself to a self-pour beer or wine and food from SouthBound!
URL:https://eatsouthbound.com/event/live-music-thursdays-ft-dj-ahuf-2/
LOCATION:The Studio @ SouthBound\, 2433 South Blvd\, Charlotte\, NC\, 28203\, United States
CATEGORIES:The Studio
ATTACH;FMTTYPE=image/jpeg:https://eatsouthbound.com/wp-content/uploads/2021/06/192102929_1435260740172668_3453806958960768232_n.jpg
END:VEVENT
BEGIN:VEVENT
DTSTART;TZID=America/New_York:20210722T190000
DTEND;TZID=America/New_York:20210722T220000
DTSTAMP:20260424T013311
CREATED:20210706T160532Z
LAST-MODIFIED:20210722T161011Z
UID:1320-1626980400-1626991200@eatsouthbound.com
SUMMARY:Live Music Thursdays ft. DJ Boss Austin!
DESCRIPTION:Hang out and get ready for the weekend at The Studio! Every Thursday from 7-10pm\, we will be spinnin’ your favorite tunes \nStay a while and treat yourself to a self-pour beer or wine and food from SouthBound!
URL:https://eatsouthbound.com/event/live-music-thursdays-ft-dj-method-2/
LOCATION:The Studio @ SouthBound\, 2433 South Blvd\, Charlotte\, NC\, 28203\, United States
CATEGORIES:The Studio
ATTACH;FMTTYPE=image/jpeg:https://eatsouthbound.com/wp-content/uploads/2021/07/223083839_980665889429198_3229611670332966375_n.jpg
END:VEVENT
BEGIN:VEVENT
DTSTART;TZID=America/New_York:20210715T190000
DTEND;TZID=America/New_York:20210715T220000
DTSTAMP:20260424T013311
CREATED:20210706T160449Z
LAST-MODIFIED:20210706T160449Z
UID:1318-1626375600-1626386400@eatsouthbound.com
SUMMARY:Live Music Thursdays ft. DJ Ahuf!
DESCRIPTION:Hang out and get ready for the weekend at The Studio! Every Thursday from 7-10pm\, we will be spinnin’ your favorite tunes \nStay a while and treat yourself to a self-pour beer or wine and food from SouthBound!
URL:https://eatsouthbound.com/event/live-music-thursdays-ft-dj-ahuf/
LOCATION:The Studio @ SouthBound\, 2433 South Blvd\, Charlotte\, NC\, 28203\, United States
CATEGORIES:The Studio
ATTACH;FMTTYPE=image/jpeg:https://eatsouthbound.com/wp-content/uploads/2021/06/192102929_1435260740172668_3453806958960768232_n.jpg
END:VEVENT
BEGIN:VEVENT
DTSTART;TZID=America/New_York:20210708T190000
DTEND;TZID=America/New_York:20210708T220000
DTSTAMP:20260424T013311
CREATED:20210706T160404Z
LAST-MODIFIED:20210706T160404Z
UID:1316-1625770800-1625781600@eatsouthbound.com
SUMMARY:Live Music Thursdays ft. DJ Method!
DESCRIPTION:Hang out and get ready for the weekend at The Studio! Every Thursday from 7-10pm\, we will be spinnin’ your favorite tunes \nStay a while and treat yourself to a self-pour beer or wine and food from SouthBound!
URL:https://eatsouthbound.com/event/live-music-thursdays-ft-dj-method/
LOCATION:The Studio @ SouthBound\, 2433 South Blvd\, Charlotte\, NC\, 28203\, United States
CATEGORIES:The Studio
ATTACH;FMTTYPE=image/jpeg:https://eatsouthbound.com/wp-content/uploads/2021/06/195904453_1435261236839285_4504098534441350310_n.jpg
END:VEVENT
BEGIN:VEVENT
DTSTART;TZID=America/New_York:20201025T120000
DTEND;TZID=America/New_York:20201025T180000
DTSTAMP:20260424T013311
CREATED:20201022T134641Z
LAST-MODIFIED:20201022T134654Z
UID:494-1603627200-1603648800@eatsouthbound.com
SUMMARY:GAME DAY @ The Yard
DESCRIPTION:Socially Distant Tailgate\nCome cheer on the Big Cats and enjoy a day of NFL football at The Music Yard
URL:https://eatsouthbound.com/event/game-day/
LOCATION:NC
CATEGORIES:The Music Yard,The Studio
ATTACH;FMTTYPE=image/jpeg:https://eatsouthbound.com/wp-content/uploads/2020/10/gameday.jpg
END:VEVENT
BEGIN:VEVENT
DTSTART;TZID=America/New_York:20201021T190000
DTEND;TZID=America/New_York:20201021T210000
DTSTAMP:20260424T013311
CREATED:20201021T151619Z
LAST-MODIFIED:20201021T151753Z
UID:470-1603306800-1603314000@eatsouthbound.com
SUMMARY:Paint & Pour
DESCRIPTION:STUDIO PRESENTS\nWe are excited to announce our first Paint & Pour with local artist Morgan Miles!\nTicket includes your canvas and 2 drinks of your choice: Wine\, Beer and Trulys on tap\n Food is available from SouthBound \n\nhttps://www.eventbrite.com/e/the-studio-presents-paint-pour-halloween-canvas-tickets-123524626483
URL:https://eatsouthbound.com/event/paint-pour/
LOCATION:The Studio @ SouthBound\, 2433 South Blvd\, Charlotte\, NC\, 28203\, United States
CATEGORIES:The Studio
ATTACH;FMTTYPE=image/jpeg:https://eatsouthbound.com/wp-content/uploads/2020/10/Studio.jpg
END:VEVENT
BEGIN:VEVENT
DTSTART;TZID=America/New_York:20201015T183000
DTEND;TZID=America/New_York:20201015T203000
DTSTAMP:20260424T013311
CREATED:20200930T174932Z
LAST-MODIFIED:20200930T174932Z
UID:321-1602786600-1602793800@eatsouthbound.com
SUMMARY:Abbey Elmore
DESCRIPTION:LIVE MUSIC\n@ The Studio \nDinner available from SouthBound\nBeer\, Wine and Truly on tap!
URL:https://eatsouthbound.com/event/abbey-elmore/
LOCATION:The Studio @ SouthBound\, 2433 South Blvd\, Charlotte\, NC\, 28203\, United States
CATEGORIES:The Studio
ATTACH;FMTTYPE=image/jpeg:https://eatsouthbound.com/wp-content/uploads/2020/09/Abbey-Elmore.jpg
END:VEVENT
BEGIN:VEVENT
DTSTART;TZID=America/New_York:20201008T183000
DTEND;TZID=America/New_York:20201008T203000
DTSTAMP:20260424T013311
CREATED:20200930T174233Z
LAST-MODIFIED:20200930T174233Z
UID:310-1602181800-1602189000@eatsouthbound.com
SUMMARY:Jade Moore
DESCRIPTION:LIVE MUSIC\n@ The Studio \nDinner available from SouthBound \nBeer\, Wine and Truly on tap!
URL:https://eatsouthbound.com/event/jade-moore/
LOCATION:The Studio @ SouthBound\, 2433 South Blvd\, Charlotte\, NC\, 28203\, United States
CATEGORIES:The Studio
ATTACH;FMTTYPE=image/jpeg:https://eatsouthbound.com/wp-content/uploads/2020/09/Jade-Moore.jpg
END:VEVENT
BEGIN:VEVENT
DTSTART;TZID=America/New_York:20201001T183000
DTEND;TZID=America/New_York:20201001T203000
DTSTAMP:20260424T013311
CREATED:20200930T173012Z
LAST-MODIFIED:20200930T174337Z
UID:285-1601577000-1601584200@eatsouthbound.com
SUMMARY:Zach Fowler
DESCRIPTION:LIVE MUSIC\n@ The Studio \nDinner available from SouthBound \nBeer\, Wine and Truly on tap!
URL:https://eatsouthbound.com/event/zach-fowler/
LOCATION:The Studio @ SouthBound\, 2433 South Blvd\, Charlotte\, NC\, 28203\, United States
CATEGORIES:The Studio
ATTACH;FMTTYPE=image/jpeg:https://eatsouthbound.com/wp-content/uploads/2020/09/Zach-fowler.jpg
END:VEVENT
END:VCALENDAR